BEGIN:VCALENDAR
VERSION:2.0
PRODID:-//wp-events-plugin.com//6.5//EN
BEGIN:VEVENT
UID:8-2628@austria.swea.org
DTSTART:20230330T090000Z
DTEND:20230330T110000Z
DTSTAMP:20230215T144040Z
URL:https://austria.swea.org/events/swea-frukost-8/
SUMMARY:SWEA-frukost
DESCRIPTION:\n\nVarmt välkommen till vår nästa frukostträff. Denna gån
 g har vi valt Conditorei Sluka på Kärntner Straße.\n\nTid: torsdagen
  den 30 mars kl. 9:00\nPlats: Conditorei Sluka\, Kärntner Straße 13-1
 5\, 1010 Wien\nHemsida: https://www.sluka.at/de\n\nAnmälan: Vänligen a
 nmäl dig via knappen nedan senast den 27 mars.\n\nHjärtligt välkommen!
 \n\nKlicka här för att anmäla dig till frukosten
ATTACH;FMTTYPE=image/jpeg:https://austria.swea.org/wp-content/uploads/site
 s/8/2023/02/unnamed-37.jpg
END:VEVENT
END:VCALENDAR