BEGIN:VCALENDAR
VERSION:2.0
PRODID:-//wp-events-plugin.com//6.5//EN
BEGIN:VEVENT
UID:8-6111@austria.swea.org
DTSTART:20240623T150000Z
DTEND:20240623T180000Z
DTSTAMP:20240611T074657Z
URL:https://austria.swea.org/events/sommarfest-i-kyrkan/
SUMMARY:Svenska kyrkans sommarfest
DESCRIPTION:Sommarfest
ATTACH;FMTTYPE=image/jpeg:https://austria.swea.org/wp-content/uploads/site
 s/8/2024/06/Sommarfest-Kyrkan.jpg
END:VEVENT
END:VCALENDAR