BEGIN:VCALENDAR
VERSION:2.0
PRODID:-//wp-events-plugin.com//6.5//EN
BEGIN:VEVENT
UID:8-5078@austria.swea.org
DTSTART:20240223T090000Z
DTEND:20240223T110000Z
DTSTAMP:20241204T143509Z
URL:https://austria.swea.org/events/frukost-i-wien-2/
SUMMARY:Frukost i Wien
DESCRIPTION:Kom med på frukost i Wien
ATTACH;FMTTYPE=image/jpeg:https://austria.swea.org/wp-content/uploads/site
 s/8/2023/02/unnamed-37.jpg
END:VEVENT
END:VCALENDAR