BEGIN:VCALENDAR
VERSION:2.0
PRODID:-//wp-events-plugin.com//6.5//EN
BEGIN:VEVENT
UID:8-2626@austria.swea.org
DTSTART:20230320T183000Z
DTEND:20230320T210000Z
DTSTAMP:20230317T044225Z
URL:https://austria.swea.org/events/forfattarbesok-av-madeleine-siosteen-t
 hiel-2/
SUMMARY:Författarbesök av Madeleine Siösteen Thiel
DESCRIPTION:\n\n&nbsp\;\n\nVälkommen till en bokpresentation av Swean och 
 författaren Madeleine Siösteen Thiel. Under sitt besök i Wien kommer h
 on att presentera sin debutspänningsroman "I mörkrets famn ".\n\nTid: m
 åndagen den 20 mars kl 19:00 med mingel från kl 18:30.\nPlats: Svenska
  kyrkans lokaler på Gentzgasse 10\, 1180 Wien.\nAnmälan: Vänligen anmä
 l dig senast den 16 mars via knappen nedan.\n\nVälkommen!\n\n&nbsp\;\n\
 nKlicka här för att anmäla dig till bokpresentationen
ATTACH;FMTTYPE=image/jpeg:https://austria.swea.org/wp-content/uploads/site
 s/8/2023/02/unnamed-35.jpg
END:VEVENT
END:VCALENDAR