BEGIN:VCALENDAR
VERSION:2.0
PRODID:-//wp-events-plugin.com//6.5//EN
BEGIN:VEVENT
UID:8-8004@austria.swea.org
DTSTART:20250304T140000Z
DTEND:20250304T180000Z
DTSTAMP:20250224T171446Z
URL:https://austria.swea.org/events/fira-fettisdagen-pa-svenska-kyrkan-4e-
 mars/
SUMMARY:Fira fettisdagen på Svenska kyrkan 4 mars
DESCRIPTION:Äntligen dags för årets semlor - kom med till svenska kyrkan
ATTACH;FMTTYPE=image/jpeg:https://austria.swea.org/wp-content/uploads/site
 s/8/2025/02/semlor-sma.jpg
END:VEVENT
END:VCALENDAR